BEGIN:VCALENDAR
PRODID:-//eluceo/ical//2.0/EN
VERSION:2.0
CALSCALE:GREGORIAN
BEGIN:VEVENT
UID:940c8ca1531589f78331485ca32fa5fb
DTSTAMP:20260420T015113Z
SUMMARY:Beth Emeth Presents:    A Primer on Frauds & Scams Against Seniors
DESCRIPTION:UJA Federation of Greater Toronto\nJewish Toronto Calendar\nhtt
 ps://jewishtoronto.com/calendar/beth-emeth-presents----a-primer-on-frauds-
 -scams-against-seniors-1772202417\n\nJoin us as Sheldon Parker provides st
 rategies and steps to protect yourself in this digital age.\n\nRegister he
 re: www.beby.org/event/april16\n\nFor location details\, please reach out 
 to Jennifer at programs@beby.org
DTSTART;TZID=America/Toronto:20260416T140000
DTEND;TZID=America/Toronto:20260416T160000
END:VEVENT
END:VCALENDAR
