BEGIN:VCALENDAR
PRODID:-//eluceo/ical//2.0/EN
VERSION:2.0
CALSCALE:GREGORIAN
BEGIN:VEVENT
UID:53ce29d31cb875f616fd1214d91f6f69
DTSTAMP:20260420T003938Z
SUMMARY:Beth Emeth is Walking with Israel!
DESCRIPTION:UJA Federation of Greater Toronto\nJewish Toronto Calendar\nhtt
 ps://jewishtoronto.com/calendar/beth-emeth-is-walking-with-israel\n\n
DTSTART;TZID=America/Toronto:20240609T000000
DTEND;TZID=America/Toronto:20240609T235959
END:VEVENT
END:VCALENDAR
