BEGIN:VCALENDAR
PRODID:-//eluceo/ical//2.0/EN
VERSION:2.0
CALSCALE:GREGORIAN
BEGIN:VEVENT
UID:06a9d004a4e2d88cf96dbb21538fffb5
DTSTAMP:20260422T152053Z
SUMMARY:Beth Emeth Brotherhood presents: World Wide Wrap
DESCRIPTION:UJA Federation of Greater Toronto\nJewish Toronto Calendar\nhtt
 ps://jewishtoronto.com/calendar/beth-emeth-brotherhood-presents-world-wide
 -wrap-1674055270\n\nShacharit services followed by World Wide Wrap - a spe
 cial program with Rabbi Morrison "Unknown facts about Tefillin" and breakf
 ast.Register here: https://www.beby.org/event/feb12
DTSTART;TZID=America/Toronto:20230212T083000
DTEND;TZID=America/Toronto:20230212T100000
END:VEVENT
END:VCALENDAR
