BEGIN:VCALENDAR
PRODID:-//eluceo/ical//2.0/EN
VERSION:2.0
CALSCALE:GREGORIAN
BEGIN:VEVENT
UID:69114203f89e2f2d230fdb0f703c7b59
DTSTAMP:20260421T150432Z
SUMMARY:Beth Emeth Bais Yehuda Synagogue - Special Musical Purim Nash and D
 rash
DESCRIPTION:UJA Federation of Greater Toronto\nJewish Toronto Calendar\nhtt
 ps://jewishtoronto.com/calendar/beth-emeth-bais-yehuda-synagogue-special-m
 usical-purim-nash-and-drash\n\nSpecial Musical Purim Nash and Drash with C
 hazzan David Edwards.\nDate:  April 7th.\nCost:  $15 pp.\n\nCall the of
 fice to purchase.
DTSTART;TZID=America/Toronto:20160407T120000
DTEND;TZID=America/Toronto:20160407T140000
END:VEVENT
END:VCALENDAR
