BEGIN:VCALENDAR
PRODID:-//eluceo/ical//2.0/EN
VERSION:2.0
CALSCALE:GREGORIAN
BEGIN:VEVENT
UID:e8f02cbe611d5c36f7e14186e9d3633c
DTSTAMP:20260419T202106Z
SUMMARY:Beth Emeth Bais Yehuda Synagogue - Seniors Gentle Exercise Group 
DESCRIPTION:UJA Federation of Greater Toronto\nJewish Toronto Calendar\nhtt
 ps://jewishtoronto.com/calendar/beth-emeth-bais-yehuda-synagogue-seniors-g
 entle-exercise-group\n\nSENIORS Gentle Exercise Group - No Charge. Led by 
 a qualified Circle of Care instructor.\n\nTuesdays & Thursdays at 11:00 am
  - 12:00 pm designed for seniors 65 years of age and older. \n\nMinimum n
 umber of participants required - please join us! (Consent & Waiver forms m
 ust be signed before participating)\n\nCall for info and to register.  41
 6.633.3838.
DTSTART;TZID=America/Toronto:20160303T110000
DTEND;TZID=America/Toronto:20160303T120000
END:VEVENT
END:VCALENDAR
