BEGIN:VCALENDAR
PRODID:-//eluceo/ical//2.0/EN
VERSION:2.0
CALSCALE:GREGORIAN
BEGIN:VEVENT
UID:9159bef6ea473287c4dc7ed0b96ccc02
DTSTAMP:20260424T132930Z
SUMMARY:Beth Emeth Bais Yehuda Synagogue Annual Golf Tournament
DESCRIPTION:UJA Federation of Greater Toronto\nJewish Toronto Calendar\nhtt
 ps://jewishtoronto.com/calendar/beth-emeth-bais-yehuda-synagogue-annual-go
 lf-tournament\n\nBeth Emeth Annual Golf Tournament\n\nThursday August 25th
  - Shotgun Start 1:00 pm. \n\nLebovic Golf Club\n\n$300 per golfer - incl
 udes lunch and dinner\, prizes\, and much more!\n\nInfo? Tanya@beby.org - 
 or call 416.633.3838 x 288.
DTSTART;TZID=America/Toronto:20160825T130000
DTEND;TZID=America/Toronto:20160825T220000
END:VEVENT
END:VCALENDAR
