BEGIN:VCALENDAR
PRODID:-//eluceo/ical//2.0/EN
VERSION:2.0
CALSCALE:GREGORIAN
BEGIN:VEVENT
UID:e4517f0df328cd6f00fbc44b77714c08
DTSTAMP:20260424T161128Z
SUMMARY:Beth Emeth and JACS presents: Learn to Cope with Life's Curveballs
DESCRIPTION:UJA Federation of Greater Toronto\nJewish Toronto Calendar\nhtt
 ps://jewishtoronto.com/calendar/beth-emeth-and-jacs-presents-learn-to-cope
 -with-lifes-curveballs-1643735885\n\nLearn to Cope with Life's Curveballs 
 in this 3 part Zoom Discussion\n\nPart 3 this Evening - Abuse\, Addiction\
 , and Recovery\n\n \n\nRegister Here: https://www.beby.org/event/JACS
DTSTART;TZID=America/Toronto:20220301T190000
DTEND;TZID=America/Toronto:20220301T203000
END:VEVENT
END:VCALENDAR
