BEGIN:VCALENDAR
PRODID:-//eluceo/ical//2.0/EN
VERSION:2.0
CALSCALE:GREGORIAN
BEGIN:VEVENT
UID:0677e9e2a122dc87eaf368dbc403f46f
DTSTAMP:20260423T221725Z
SUMMARY:Beth David's Tuesday Study Group
DESCRIPTION:UJA Federation of Greater Toronto\nJewish Toronto Calendar\nhtt
 ps://jewishtoronto.com/calendar/beth-davids-tuesday-study-group-1576692711
 \n\nTuesday Study Group 8 Sessions (con’t) MiDor l’Dor: Challenging Is
 sues in Jewish Life\, Then and Now Speaker: Michael Rubin\, Beth David Rit
 ual Director Topic: Social Responsibility
DTSTART;TZID=America/Toronto:20200317T103000
DTEND;TZID=America/Toronto:20200317T120000
END:VEVENT
END:VCALENDAR
