BEGIN:VCALENDAR
PRODID:-//eluceo/ical//2.0/EN
VERSION:2.0
CALSCALE:GREGORIAN
BEGIN:VEVENT
UID:d89c9d4f2fabcfeb30253f001ab66233
DTSTAMP:20260422T125804Z
SUMMARY:Beth David's Tuesday Study Group
DESCRIPTION:UJA Federation of Greater Toronto\nJewish Toronto Calendar\nhtt
 ps://jewishtoronto.com/calendar/beth-davids-tuesday-study-group-1576692564
 \n\nTuesday Study Group 8 Sessions (con’t) MiDor l’Dor: Challenging Is
 sues in Jewish Life\, Then and Now Speaker: Rabbi Becca Walker\, Beth Davi
 d Engagement Rabbi Topic: Gender Identity
DTSTART;TZID=America/Toronto:20200225T103000
DTEND;TZID=America/Toronto:20200225T120000
END:VEVENT
END:VCALENDAR
