BEGIN:VCALENDAR
PRODID:-//eluceo/ical//2.0/EN
VERSION:2.0
CALSCALE:GREGORIAN
BEGIN:VEVENT
UID:35c44ffc89bcfa468a17b094e381ece4
DTSTAMP:20260421T082215Z
SUMMARY:Beth David’s Tea Time and Books
DESCRIPTION:UJA Federation of Greater Toronto\nJewish Toronto Calendar\nhtt
 ps://jewishtoronto.com/calendar/beth-davids-tea-time-and-books-1538078385\
 n\nPlease register at www.bethdavid.com or call (416) 633-5500\n$35 for th
 e series or $10 per session\n\nTuesday\, October 16\, 2018 1:30 to 3 PM\nT
 he Women in the Castle by Jessica Shattuck\nModerated by Suanne Kelman\n\n
 Tuesday\, December 4\, 2018 1:30 to 3 PM\nThe Betrayers by David Bezmozgis
 \nModerated by David Bezmozgis\n\nTuesday\, March 5\, 2019 1:30 to 3 PM\nT
 he Best Place on Earth by Ayelet Tsabari\nModerated by Ayelet Tsabari\n\nT
 uesday\, April 30\, 2019 1:30 to 3 PM\nThe Weight of Ink by Rach...
DTSTART;TZID=America/Toronto:20181016T133000
DTEND;TZID=America/Toronto:20181016T150000
END:VEVENT
END:VCALENDAR
