BEGIN:VCALENDAR
PRODID:-//eluceo/ical//2.0/EN
VERSION:2.0
CALSCALE:GREGORIAN
BEGIN:VEVENT
UID:c4b5caca47ffbb1631e715005717bb95
DTSTAMP:20260421T142338Z
SUMMARY:Beth David's annual Megillah Reading and Purim Carnival
DESCRIPTION:UJA Federation of Greater Toronto\nJewish Toronto Calendar\nhtt
 ps://jewishtoronto.com/calendar/beth-davids-annual-megillah-reading-and-pu
 rim-carnival-1518732026\n\nJoin Beth David at our annual Megillah Reading 
 and Purim Carnival. Megillah reading begins at 6:30 pm and the carnival fo
 llows immediately after.\n\nMegillah reading is free to attend and the Car
 nival is $10 and includes\, a Kosher BBQ\, hamantaschen\, Inflatable Bounc
 ers\, Bounce Entertainment DJ's\, Carnival Games\, Airbrush Tattoos\, a Co
 stume Contest and much\, much more
DTSTART;TZID=America/Toronto:20180228T183000
DTEND;TZID=America/Toronto:20180228T220000
END:VEVENT
END:VCALENDAR
