BEGIN:VCALENDAR
PRODID:-//eluceo/ical//2.0/EN
VERSION:2.0
CALSCALE:GREGORIAN
BEGIN:VEVENT
UID:0f4a9035a0a03655ca5ecf2a6472a000
DTSTAMP:20260421T183359Z
SUMMARY:Beth David Yom Ha'atzmaut Celebration
DESCRIPTION:UJA Federation of Greater Toronto\nJewish Toronto Calendar\nhtt
 ps://jewishtoronto.com/calendar/beth-david-yom-haatzmaut-celebration\n\nFe
 aturing the Varsity Jews - A Capella and "Israel-the Sound Track\," sights
  and sounds of Israel. Admission FREE. Refreshments.
DTSTART;TZID=America/Toronto:20140506T193000
DTEND;TZID=America/Toronto:20140506T213000
END:VEVENT
END:VCALENDAR
