BEGIN:VCALENDAR
PRODID:-//eluceo/ical//2.0/EN
VERSION:2.0
CALSCALE:GREGORIAN
BEGIN:VEVENT
UID:56a6408bd036389a7d5240f12ef3a8f9
DTSTAMP:20260420T200110Z
SUMMARY:Beth David Takes A Krav Maga Class (Grade 6-12)
DESCRIPTION:UJA Federation of Greater Toronto\nJewish Toronto Calendar\nhtt
 ps://jewishtoronto.com/calendar/beth-david-takes-a-krav-maga-class-grade-6
 -12\n\nCost: $20 at the door\n\n \n\n 
DTSTART;TZID=America/Toronto:20141207T170000
DTEND;TZID=America/Toronto:20141207T200000
END:VEVENT
END:VCALENDAR
