BEGIN:VCALENDAR
PRODID:-//eluceo/ical//2.0/EN
VERSION:2.0
CALSCALE:GREGORIAN
BEGIN:VEVENT
UID:fbe5e51a0265a90c391ec31b7cf45607
DTSTAMP:20260425T112139Z
SUMMARY:Beth David Speaker
DESCRIPTION:UJA Federation of Greater Toronto\nJewish Toronto Calendar\nhtt
 ps://jewishtoronto.com/calendar/beth-david-speaker\n\nHosted by the Contin
 uing Education Committee. Dr. David Lipovitch\, staff Zooarchaeologist at 
 UofT will speak on the topic "Archaeology and the Reign of Hezekiah"
DTSTART;TZID=America/Toronto:20140327T193000
DTEND;TZID=America/Toronto:20140327T213000
END:VEVENT
END:VCALENDAR
