BEGIN:VCALENDAR
PRODID:-//eluceo/ical//2.0/EN
VERSION:2.0
CALSCALE:GREGORIAN
BEGIN:VEVENT
UID:70abb98be5035d9e8a412e7b6203e87e
DTSTAMP:20260421T073059Z
SUMMARY:Beth David Singles:  Boomers Edition (50-69):
DESCRIPTION:UJA Federation of Greater Toronto\nJewish Toronto Calendar\nhtt
 ps://jewishtoronto.com/calendar/beth-david-singles--boomers-edition-50-69-
 --getting-to-know-you-1588095804\n\nBy request\, our ZOOM call #7 theme: G
 etting to Know You 
DTSTART;TZID=America/Toronto:20200503T190000
DTEND;TZID=America/Toronto:20200503T200000
END:VEVENT
END:VCALENDAR
