BEGIN:VCALENDAR
PRODID:-//eluceo/ical//2.0/EN
VERSION:2.0
CALSCALE:GREGORIAN
BEGIN:VEVENT
UID:61f7b63574a7849f577d1ae15fd866cc
DTSTAMP:20260421T190816Z
SUMMARY:Beth David Singles:  Boomers Edition  (50-69):  Tradition- Tra-DISH
 -on!
DESCRIPTION:UJA Federation of Greater Toronto\nJewish Toronto Calendar\nhtt
 ps://jewishtoronto.com/calendar/beth-david-singles--boomers-edition--50-69
 --tradition--tra-dish-on-1598320730\n\nDo join us Sunday\, Aug 30\, 2020 7
  pm for Zoom call #24: Rosh Hashana Traditions\n\nAs our families sprout f
 rom all over the globe\, let&#039\;s share our customs/minhagim of the pas
 t (and how we&#039\;ll be adapting them during COVID now). For example\, I
 f you have a shofar\, do show it and maybe blow it for us. If you have a f
 av Yontiff recipe you like to eat/make\, share it on the call - and in our
  Rosh Hashana Recipe Exchange.\n\nFor call-in details\, email: BethDavidSi
 nglesBoomerEdition@gmail.com\n(tell...
DTSTART;TZID=America/Toronto:20200830T190000
DTEND;TZID=America/Toronto:20200830T200000
END:VEVENT
END:VCALENDAR
