BEGIN:VCALENDAR
PRODID:-//eluceo/ical//2.0/EN
VERSION:2.0
CALSCALE:GREGORIAN
BEGIN:VEVENT
UID:43531a6f8d008cdcf3da420b0866d8aa
DTSTAMP:20260421T115401Z
SUMMARY:Beth David Singles:  Boomers Edition  (50-69):  Pique-Nique in a Pa
 rk 2
DESCRIPTION:UJA Federation of Greater Toronto\nJewish Toronto Calendar\nhtt
 ps://jewishtoronto.com/calendar/beth-david-singles--boomers-edition--50-69
 --pique-nique-in-a-park-2-1597097732\n\nWe&#039\;re listening 
DTSTART;TZID=America/Toronto:20200816T140000
DTEND;TZID=America/Toronto:20200816T160000
END:VEVENT
END:VCALENDAR
