BEGIN:VCALENDAR
PRODID:-//eluceo/ical//2.0/EN
VERSION:2.0
CALSCALE:GREGORIAN
BEGIN:VEVENT
UID:9605fe6072b37f4921328d4b34468cca
DTSTAMP:20260422T050639Z
SUMMARY:Beth David Singles:  Boomers Edition  (50-69):  Join us on a Scaven
 ger Hunt
DESCRIPTION:UJA Federation of Greater Toronto\nJewish Toronto Calendar\nhtt
 ps://jewishtoronto.com/calendar/beth-david-singles--boomers-edition--50-69
 --join-us-on-a-scavenger-hunt-1594611395\n\nWe&#039\;re going on a 1-hour 
 Scavenger Hunt! \nLet&#039\;s find fun stuff in our house\, apartment or c
 ar.\nThe person with the most finds\, wins!\n\nto request your 1-click lin
 k to the Scavenger Hunt email: BethDavidSinglesBoomerEdition@gmail.com\n \
 nConnect online\, or call in via a local phone number.  Nice!\nAnd yes\, d
 o continue your private side chats with people on the call\, Make the move
  to chat privately in the CHAT section (box)\, to make new friends to conn
 ect with after the call.\n \nRecapping...
DTSTART;TZID=America/Toronto:20200719T190000
DTEND;TZID=America/Toronto:20200719T200000
END:VEVENT
END:VCALENDAR
