BEGIN:VCALENDAR
PRODID:-//eluceo/ical//2.0/EN
VERSION:2.0
CALSCALE:GREGORIAN
BEGIN:VEVENT
UID:7a2e34275c7875ff018aad57af8eeff9
DTSTAMP:20260422T071726Z
SUMMARY:Beth David Singles:  Boomers Edition  (50-69):  Checking in
DESCRIPTION:UJA Federation of Greater Toronto\nJewish Toronto Calendar\nhtt
 ps://jewishtoronto.com/calendar/beth-david-singles--boomers-edition--50-69
 --checking-in-1595349696\n\nAfter our very popular online Scavenger Hunt\,
  do join us this Sunday (July 26\, 2020) for one or both of our planned pr
 ograms:\n\nTo register (one/both programs) email: BethDavidSinglesBoomerEd
 ition@gmail.com\n\n2 PM:  Picque-nique in a Thornhill Park (see UJA Calend
 ar for separate post)\n         We adhere to ALL Public Health Guidelines 
 + regulations\n\n7 PM:  Zoom call 19 - Checkin&#039\; In           \n     
  Now that we&#039\;re in Covid-19 Phase 2 (or 3)\n\nAfter we celebrate a s
 afe picnic together...
DTSTART;TZID=America/Toronto:20200726T190000
DTEND;TZID=America/Toronto:20200726T200000
END:VEVENT
END:VCALENDAR
