BEGIN:VCALENDAR
PRODID:-//eluceo/ical//2.0/EN
VERSION:2.0
CALSCALE:GREGORIAN
BEGIN:VEVENT
UID:7798bc6c0f727074c1f9494d8425bf55
DTSTAMP:20260426T011220Z
SUMMARY:Beth David Singles:  Boomers Edition  (50-69):   Virtual Chanukkah 
 Party
DESCRIPTION:UJA Federation of Greater Toronto\nJewish Toronto Calendar\nhtt
 ps://jewishtoronto.com/calendar/beth-david-singles--boomers-edition--50-69
 ---virtual-chanukkah-party-1607478555\n\nJoin us for Zoom call #35 A Virtu
 al Chanukkah Party  December 13\, 2020\, at 7 PM\nTo register\, email: Bet
 hDavidSinglesBoomerEdition@gmail.com\n\nThis year&#039\;s Hanukkah festivi
 ties are virtual\, and we&#039\;re delighted will be led by Karen Shane\, 
 one of our committee members. Open your closets and dust off your Menorah(
 s) and Dreidel(s). And perhaps you have another item related to Hanukkah t
 hat you&#039\;d like to show or talk about for a minute or two. \n \nKaren
  will start by reading excerpts from the...
DTSTART;TZID=America/Toronto:20201213T190000
DTEND;TZID=America/Toronto:20201213T200000
END:VEVENT
END:VCALENDAR
