BEGIN:VCALENDAR
PRODID:-//eluceo/ical//2.0/EN
VERSION:2.0
CALSCALE:GREGORIAN
BEGIN:VEVENT
UID:bb67be05417fe23f52f6401abcfbb6d6
DTSTAMP:20260425T182642Z
SUMMARY:Beth David Purim Carnival and Mega Megillah Reading
DESCRIPTION:UJA Federation of Greater Toronto\nJewish Toronto Calendar\nhtt
 ps://jewishtoronto.com/calendar/beth-david-purim-carnival-and-mega-megilla
 h-reading\n\n9 am for Megillah\, 11 am for Carnival
DTSTART;TZID=America/Toronto:20140316T090000
DTEND;TZID=America/Toronto:20140316T160000
END:VEVENT
END:VCALENDAR
