BEGIN:VCALENDAR
PRODID:-//eluceo/ical//2.0/EN
VERSION:2.0
CALSCALE:GREGORIAN
BEGIN:VEVENT
UID:812d0fec74c71a63cf68e9aa8477d6a9
DTSTAMP:20260419T152538Z
SUMMARY:Beth David presents “The Cantor" with Rabbi Wayne Allen
DESCRIPTION:UJA Federation of Greater Toronto\nJewish Toronto Calendar\nhtt
 ps://jewishtoronto.com/calendar/beth-david-presents-the-cantor-with-rabbi-
 wayne-allen-1576693990\n\nIn his book\, Rabbi Allen traces the evolution o
 f the office of synagogue cantor as reflected in the primary sources of Je
 wish law as well as in Jewish lore from the third century to the present d
 ay. He explores the ambivalence of both Jewish authorities and the Jewish 
 public toward the cantor and speculates on the future of the position.
DTSTART;TZID=America/Toronto:20200123T193000
DTEND;TZID=America/Toronto:20200123T210000
END:VEVENT
END:VCALENDAR
