BEGIN:VCALENDAR
PRODID:-//eluceo/ical//2.0/EN
VERSION:2.0
CALSCALE:GREGORIAN
BEGIN:VEVENT
UID:ffe0cd3e45cf2e042e8ed0e5c7f18a0b
DTSTAMP:20260420T165700Z
SUMMARY:Beth David presents Guest Speaker Dr. Yael Seliger
DESCRIPTION:UJA Federation of Greater Toronto\nJewish Toronto Calendar\nhtt
 ps://jewishtoronto.com/calendar/beth-david-presents-guest-speaker-dr-yael-
 seliger\n\nPost Holocaust Literature\, Seventy Years After the Holocaust\n
 \nGuest Speaker Dr. Yael Seliger\n\nYael's professional background include
 s many years of teaching\, teacher training\, and serving as director of e
 ducational services at Toronto's former Board of Jewish Education. She is 
 currently an instructor at York University\n\n 
DTSTART;TZID=America/Toronto:20151203T193000
DTEND;TZID=America/Toronto:20151203T213000
END:VEVENT
END:VCALENDAR
