BEGIN:VCALENDAR
PRODID:-//eluceo/ical//2.0/EN
VERSION:2.0
CALSCALE:GREGORIAN
BEGIN:VEVENT
UID:3b260af30e0f23530a68e5c5e33f62e7
DTSTAMP:20260423T131703Z
SUMMARY:Beth David presents  "Science Meets the Bible" #5 in the series
DESCRIPTION:UJA Federation of Greater Toronto\nJewish Toronto Calendar\nhtt
 ps://jewishtoronto.com/calendar/beth-david-presents--science-meets-the-bib
 le-5-in-the-series-1576697653\n\nScience Meets the Bible: New Insights int
 o Narratives in the Bible with Stephen P. Kraft Kabbalah\, Geometry\, and 
 Modern Geography: A 5780-Year Odyssey
DTSTART;TZID=America/Toronto:20200305T193000
DTEND;TZID=America/Toronto:20200305T210000
END:VEVENT
END:VCALENDAR
