BEGIN:VCALENDAR
PRODID:-//eluceo/ical//2.0/EN
VERSION:2.0
CALSCALE:GREGORIAN
BEGIN:VEVENT
UID:f6d1a4a145068ea7071e22577e6aa632
DTSTAMP:20260420T200904Z
SUMMARY:Beth David presents     Lunch and Learn with moderator\, author Joe
  Kertes
DESCRIPTION:UJA Federation of Greater Toronto\nJewish Toronto Calendar\nhtt
 ps://jewishtoronto.com/calendar/beth-david-presents--lunch-and-learn-with-
 moderator-author-joe-kertes\n\nJoe Kertes was born in Hungary but escaped 
 with his family to Canada after the revolution of 1956.\n\nHis novel\, Gra
 titude\, won a Canadian National Jewish Book Award and the U.S. National J
 ewish Book Award for\n\nFiction.\n\nTuesday\, December 15\, 2015 - The Laz
 arus Project by Alexander Hemon\n\n11:45 – 12:15 PM lunch\n\n12:15 – 1
 :00 PM discussion\n\nCost: $15 for members\n\n$18 for non members for each
  session\n\nParticipants are asked to secure a copy of the novel and come 
 prepared to en...
DTSTART;TZID=America/Toronto:20151215T114500
DTEND;TZID=America/Toronto:20151215T140000
END:VEVENT
END:VCALENDAR
