BEGIN:VCALENDAR
PRODID:-//eluceo/ical//2.0/EN
VERSION:2.0
CALSCALE:GREGORIAN
BEGIN:VEVENT
UID:a2b49a977796c37ad4f9d7c192d10377
DTSTAMP:20260420T035840Z
SUMMARY:Beth David: Lecture with Rachael Turkienicz
DESCRIPTION:UJA Federation of Greater Toronto\nJewish Toronto Calendar\nhtt
 ps://jewishtoronto.com/calendar/beth-david-lecture-with-rachael-turkienicz
 -1544132196\n\nTopic "What if the Commandments Don’t Fit My Jewish Value
 s?"
DTSTART;TZID=America/Toronto:20190515T193000
DTEND;TZID=America/Toronto:20190515T213000
END:VEVENT
END:VCALENDAR
