BEGIN:VCALENDAR
PRODID:-//eluceo/ical//2.0/EN
VERSION:2.0
CALSCALE:GREGORIAN
BEGIN:VEVENT
UID:4a9bda8078ddb56f649e3ac0a0aac5d1
DTSTAMP:20260423T101337Z
SUMMARY:Beth David B'nai Israel Beth Am-Leaders of Modern Zionism
DESCRIPTION:UJA Federation of Greater Toronto\nJewish Toronto Calendar\nhtt
 ps://jewishtoronto.com/calendar/beth-david-bnai-israel-beth-am-leaders-of-
 modern-zionism\n\nHow was the Jewish State created?\nWhat was the vision o
 f the great Zionists?\nWhat would they think of the Israel of today?\n\n\n
 Join Rabbi Philip Scheim for a fascinating exploration of these questions 
 and more\n\nFebruary 4 - Theodor Herzl\n\nFebruary 11 - Rav. Abraham Isaac
  Kook\n\nFebruary 18 - Vladimir Ze'ev Jabotinsky\n\nFebruary 25 - David Be
 n Gurion\n\nMarch 11 - Menachim Begin\n\nMarch 18 - Today's leaders & tomo
 rrow's outlook\n\nJoin us for one\, some or all of the sessions. Re...
DTSTART;TZID=America/Toronto:20150204T200000
DTEND;TZID=America/Toronto:20150204T210000
END:VEVENT
END:VCALENDAR
