BEGIN:VCALENDAR
PRODID:-//eluceo/ical//2.0/EN
VERSION:2.0
CALSCALE:GREGORIAN
BEGIN:VEVENT
UID:fe317f6d8cb39b6c719a2db3ad92f387
DTSTAMP:20260426T004741Z
SUMMARY:Beth David B'nai Israel Beth Am -Finding Our Way in Traditional Pra
 yer 
DESCRIPTION:UJA Federation of Greater Toronto\nJewish Toronto Calendar\nhtt
 ps://jewishtoronto.com/calendar/beth-david-bnai-israel-beth-am-finding-our
 -way-in-traditional-prayer\n\nWith Our Clergy\, Rabbi Scheim\, Cantor Loom
 er and Ritual Director Michael Rubin guiding our exploration and understan
 ding in a 4-part series\n\nJanuary 29 - Geography of the Siddur\n\nFebruar
 y 5 - Language of the Siddur: Avoiding Everyday Errors\n\nFebruary 12 - Pr
 ayer and Song: Understanding the Modes of Tefillah\n\nFebruary 19 - Prayer
  in Practice\n\nLearn how to pray and deepen your spiritual experience thr
 ough prayer!\n\nJoin us for one\, some or all of the sessions. Register at
  www.bethdav...
DTSTART;TZID=America/Toronto:20150129T193000
DTEND;TZID=America/Toronto:20150129T213000
END:VEVENT
END:VCALENDAR
