BEGIN:VCALENDAR
PRODID:-//eluceo/ical//2.0/EN
VERSION:2.0
CALSCALE:GREGORIAN
BEGIN:VEVENT
UID:ca1b4ec65d743c6af96ffcbbbcd5858d
DTSTAMP:20260421T222112Z
SUMMARY:Beth Chabad Israeli Golf Tournament
DESCRIPTION:UJA Federation of Greater Toronto\nJewish Toronto Calendar\nhtt
 ps://jewishtoronto.com/calendar/beth-chabad-israeli-golf-tournament-154091
 7965\n\nCharitable golf tournament.\nKosher breakfast and lunch included
DTSTART;TZID=America/Toronto:20190709T080000
DTEND;TZID=America/Toronto:20190709T150000
END:VEVENT
END:VCALENDAR
