BEGIN:VCALENDAR
PRODID:-//eluceo/ical//2.0/EN
VERSION:2.0
CALSCALE:GREGORIAN
BEGIN:VEVENT
UID:8bedb55672562da6ecbdeed06cf3caf9
DTSTAMP:20260421T173018Z
SUMMARY:Bernard Betel Computer Class Registration Opens
DESCRIPTION:UJA Federation of Greater Toronto\nJewish Toronto Calendar\nhtt
 ps://jewishtoronto.com/calendar/bernard-betel-computer-class-registration-
 opens\n\nComputer\, Tablet and Phone classes for all levels and interests.
  Beginners\, Intermediate\, Facebook & Surfing the Net\, Windows 10\, Movi
 e Maker\, Computer Safety\, Boost Your Memory using the Computer. One-on-O
 ne classes also available. For Tablet users: iPad Beginner and Intermediat
 e Plus. iPhone class. Android Class for Android users. Classes begin the w
 eek of October 16th\, 2017. Various Prices.\n\nCall to register: Dianne at
  416-225-2112 xt. 128
DTSTART;TZID=America/Toronto:20170905T083000
DTEND;TZID=America/Toronto:20170905T235000
END:VEVENT
END:VCALENDAR
