BEGIN:VCALENDAR
PRODID:-//eluceo/ical//2.0/EN
VERSION:2.0
CALSCALE:GREGORIAN
BEGIN:VEVENT
UID:cbc30471cd971a0708c91eb2ab781d12
DTSTAMP:20260419T124255Z
SUMMARY:Bernard Betel Centre 60th Anniversary Diamond Jubilee Lunch
DESCRIPTION:UJA Federation of Greater Toronto\nJewish Toronto Calendar\nhtt
 ps://jewishtoronto.com/calendar/bernard-betel-centre-60th-anniversary-cele
 bration-1741206521\n\nSAVE THE DATE! Celebrate 60 years of creative living
 ! We will be hosting a delicious kosher brunch with special entertainment 
 to celebrate this incredible milestone. Enjoy a trip down memory lane as w
 e look back on the past 60 years! In recognition of their incredible gener
 osity and commitment over the years\, the event will include dedication of
  our auditorium to the Lebovic family. The support of the Lebovic family h
 as made a lasting impact on the community we serve. \n\nTime: TBD\nPrice:.
 ..
DTSTART;TZID=America/Toronto:20250622T113000
DTEND;TZID=America/Toronto:20250622T143000
END:VEVENT
END:VCALENDAR
