BEGIN:VCALENDAR
PRODID:-//eluceo/ical//2.0/EN
VERSION:2.0
CALSCALE:GREGORIAN
BEGIN:VEVENT
UID:96598d41834da6cbeaddea7aebbdb06b
DTSTAMP:20260425T202053Z
SUMMARY:Ben-Gurion University presents The Future is NOW Gala
DESCRIPTION:UJA Federation of Greater Toronto\nJewish Toronto Calendar\nhtt
 ps://jewishtoronto.com/calendar/ben-gurion-university-presents-the-future-
 is-now-gala\n\nBen-Gurion University Canada presents The Future is NOW Gal
 a featuring legendary actor Michael J. Fox\n\nFor more information please 
 call Shimmy Wenner @ 416 665 8054 ext. 22 or you can send an email to shim
 mywenner@bengurion.ca\n\n 
DTSTART;TZID=America/Toronto:20221106T180000
DTEND;TZID=America/Toronto:20221106T220000
END:VEVENT
END:VCALENDAR
