BEGIN:VCALENDAR
PRODID:-//eluceo/ical//2.0/EN
VERSION:2.0
CALSCALE:GREGORIAN
BEGIN:VEVENT
UID:acd0888e6e9a643a4794a7cbff28282a
DTSTAMP:20260422T184050Z
SUMMARY:Ben-Gurion  University Toronto Annual Gala Event
DESCRIPTION:UJA Federation of Greater Toronto\nJewish Toronto Calendar\nhtt
 ps://jewishtoronto.com/calendar/ben-gurion--university-toronto-annual-gala
 -event-1702840986\n\nThis is our BGU annual gala event.
DTSTART;TZID=America/Toronto:20241201T190000
DTEND;TZID=America/Toronto:20241201T211500
END:VEVENT
END:VCALENDAR
