BEGIN:VCALENDAR
PRODID:-//eluceo/ical//2.0/EN
VERSION:2.0
CALSCALE:GREGORIAN
BEGIN:VEVENT
UID:26d75b0452da03214ed748cc77a8c4c7
DTSTAMP:20260423T131901Z
SUMMARY:Beit Rayim's Shalom & Shine - Jewish LGBTQ Meetup
DESCRIPTION:UJA Federation of Greater Toronto\nJewish Toronto Calendar\nhtt
 ps://jewishtoronto.com/calendar/beit-rayims-shalom--shine---jewish-lgbtq-m
 eetup-1746107708\n\nThis is a chance for members of the Jewish LGBTQ+ comm
 unity and allies to meet up at the Beit Rayim Synagogue office in a safe s
 pace to chat\, relate\, and get to know each other. This is a casual meetu
 p\, there is no cost\, and there will be drinks and snacks provided.
DTSTART;TZID=America/Toronto:20250601T130000
DTEND;TZID=America/Toronto:20250601T143000
END:VEVENT
END:VCALENDAR
