BEGIN:VCALENDAR
PRODID:-//eluceo/ical//2.0/EN
VERSION:2.0
CALSCALE:GREGORIAN
BEGIN:VEVENT
UID:472cc5063870ac588d8f377d4f38ef07
DTSTAMP:20260426T010433Z
SUMMARY:Beit Rayim's Family Shabbat Experience
DESCRIPTION:UJA Federation of Greater Toronto\nJewish Toronto Calendar\nhtt
 ps://jewishtoronto.com/calendar/beit-rayims-family-shabbat-experience-1751
 464313\n\nA Family Shabbat Service that will have activities and prayers t
 hat engage all ages of the Jewish family\, from newborn and toddlers to po
 st-B'nei Mitzvah teenagers and adults.
DTSTART;TZID=America/Toronto:20250712T094500
DTEND;TZID=America/Toronto:20250712T120000
END:VEVENT
END:VCALENDAR
