BEGIN:VCALENDAR
PRODID:-//eluceo/ical//2.0/EN
VERSION:2.0
CALSCALE:GREGORIAN
BEGIN:VEVENT
UID:05202d355c434764d0dcfea3b670d434
DTSTAMP:20260421T185322Z
SUMMARY:Beit Rayim Mini Minyan Monthly Program
DESCRIPTION:UJA Federation of Greater Toronto\nJewish Toronto Calendar\nhtt
 ps://jewishtoronto.com/calendar/beit-rayim-mini-minyan-monthly-programdasf
 ghfj\n\n
DTSTART;TZID=America/Toronto:20240622T000000
DTEND;TZID=America/Toronto:20240622T235959
END:VEVENT
END:VCALENDAR
