BEGIN:VCALENDAR
PRODID:-//eluceo/ical//2.0/EN
VERSION:2.0
CALSCALE:GREGORIAN
BEGIN:VEVENT
UID:58eeca70313fefce031dc87156dc417c
DTSTAMP:20260420T222711Z
SUMMARY:Beit Rayim Hebrew School Golf Classic
DESCRIPTION:UJA Federation of Greater Toronto\nJewish Toronto Calendar\nhtt
 ps://jewishtoronto.com/calendar/beit-rayim-hebrew-school-golf-classic-1649
 270168\n\n18 holes of golf\, cart\, meals and drinks included\n2 bonus rou
 nds of golf to registered players with meals and drinks to be used this se
 ason.
DTSTART;TZID=America/Toronto:20220714T080000
DTEND;TZID=America/Toronto:20220714T200000
END:VEVENT
END:VCALENDAR
