BEGIN:VCALENDAR
PRODID:-//eluceo/ical//2.0/EN
VERSION:2.0
CALSCALE:GREGORIAN
BEGIN:VEVENT
UID:e2c2e8894981f2fcbed05896e2ccbb03
DTSTAMP:20260420T011908Z
SUMMARY:Beit Midrash: Learning Inspired by the Shalom Hartman Institute
DESCRIPTION:UJA Federation of Greater Toronto\nJewish Toronto Calendar\nhtt
 ps://jewishtoronto.com/calendar/beit-midrash-learning-inspired-by-the-shal
 om-hartman-institute-1708122610\n\nA Beit Midrash\, the house of study\, i
 s a playground for growing Jewish minds at every level. It is the place wh
 ere you are given the freedom to explore texts and scripture\, legends and
  law at your own speed. At first glance\, you might mistake it for a libra
 ry\, with books piled high along the wall\, but its buzz of conversation\,
  debate\, and comradery disabuse any notion that it is a place for silence
 . A Beit Midrash is a place to learn Torah in all its glory. It is a place
  filled with life.\n\n...
DTSTART;TZID=America/Toronto:20240320T190000
DTEND;TZID=America/Toronto:20240320T203000
END:VEVENT
END:VCALENDAR
