BEGIN:VCALENDAR
PRODID:-//eluceo/ical//2.0/EN
VERSION:2.0
CALSCALE:GREGORIAN
BEGIN:VEVENT
UID:3d5cd572cfd2689e4db78236cdb2abab
DTSTAMP:20260422T124510Z
SUMMARY:Beit Halochem - Yom Ha'atzmaut Mission to Israel
DESCRIPTION:UJA Federation of Greater Toronto\nJewish Toronto Calendar\nhtt
 ps://jewishtoronto.com/calendar/beit-halochem-yom-haatzmaut-mission-to-isr
 ael\n\nHosted by Beit Halochem\, Disabled Veterans of Israel
DTSTART;TZID=America/Toronto:20160503T090000
DTEND;TZID=America/Toronto:20160513T170000
END:VEVENT
END:VCALENDAR
