BEGIN:VCALENDAR
PRODID:-//eluceo/ical//2.0/EN
VERSION:2.0
CALSCALE:GREGORIAN
BEGIN:VEVENT
UID:ef39fe4d5a61a61f080a96cfa039fd7e
DTSTAMP:20260423T145116Z
SUMMARY:Beit Halochem Mission To Israel
DESCRIPTION:UJA Federation of Greater Toronto\nJewish Toronto Calendar\nhtt
 ps://jewishtoronto.com/calendar/beit-halochem-mission-to-israel-1\n\nDetai
 ls to follow
DTSTART;TZID=America/Toronto:20150420T000000
DTEND;TZID=America/Toronto:20150430T000000
END:VEVENT
END:VCALENDAR
