BEGIN:VCALENDAR
PRODID:-//eluceo/ical//2.0/EN
VERSION:2.0
CALSCALE:GREGORIAN
BEGIN:VEVENT
UID:df5af45b6ac2f343d75533fbb54d283e
DTSTAMP:20260425T035505Z
SUMMARY:Beit Halochem Golf Tournament
DESCRIPTION:UJA Federation of Greater Toronto\nJewish Toronto Calendar\nhtt
 ps://jewishtoronto.com/calendar/beit-halochem-golf-tournament\n\nBeit Halo
 chem Golf Tournament
DTSTART;TZID=America/Toronto:20140723T110000
DTEND;TZID=America/Toronto:20140723T160000
END:VEVENT
END:VCALENDAR
