BEGIN:VCALENDAR
PRODID:-//eluceo/ical//2.0/EN
VERSION:2.0
CALSCALE:GREGORIAN
BEGIN:VEVENT
UID:6de4703bec2ced2171e17ab100b69162
DTSTAMP:20260422T083752Z
SUMMARY:Beit Halochem Canada's Mission to Israel
DESCRIPTION:UJA Federation of Greater Toronto\nJewish Toronto Calendar\nhtt
 ps://jewishtoronto.com/calendar/beit-halochem-canadas-mission-to-israel\n\
 n75th Yom Ha'atzmaut Mission to Israel with Beit Halochem Canada\, Aid of
  Disabled Veterans of Israel.
DTSTART;TZID=America/Toronto:20230423T000000
DTEND;TZID=America/Toronto:20230430T000000
END:VEVENT
END:VCALENDAR
