BEGIN:VCALENDAR
PRODID:-//eluceo/ical//2.0/EN
VERSION:2.0
CALSCALE:GREGORIAN
BEGIN:VEVENT
UID:9c219d9422fb021e41427040493a58a1
DTSTAMP:20260424T055951Z
SUMMARY:Beit Halochem Canada TIKVAH Campaign
DESCRIPTION:UJA Federation of Greater Toronto\nJewish Toronto Calendar\nhtt
 ps://jewishtoronto.com/calendar/beit-halochem-canada-tikvah-campaign-16185
 93010\n\nOn Sunday\, May 2nd\, in honour of Yom Ha’atzmaut\, Beit Haloch
 em Canada\, Aid to Disabled Veterans of Israel will launch a 36-hour fundr
 aising matching campaign. This will help rehabilitate\, rebuild\, and enha
 nce the lives of Israelis injured in the line of duty or through acts of t
 error during the State of Israel’s first 73 years.\n\nIn these times\, a
  different approach to fundraising is needed\, and we are happy to announc
 e TIKVAH\, our first-ever online crowdfunding matching campaign!\n\nTIK...
DTSTART;TZID=America/Toronto:20210502T090000
DTEND;TZID=America/Toronto:20210502T230000
END:VEVENT
END:VCALENDAR
