BEGIN:VCALENDAR
PRODID:-//eluceo/ical//2.0/EN
VERSION:2.0
CALSCALE:GREGORIAN
BEGIN:VEVENT
UID:270d97e28289f9ba2954357eb85156bc
DTSTAMP:20260423T100622Z
SUMMARY:Beit Halochem Canada - Annual Golf Tournament
DESCRIPTION:UJA Federation of Greater Toronto\nJewish Toronto Calendar\nhtt
 ps://jewishtoronto.com/calendar/beit-halochem-canada---annual-golf-tournam
 ent-1758294177\n\nAnnual Golf Tournament
DTSTART;TZID=America/Toronto:20260915T100000
DTEND;TZID=America/Toronto:20260915T190000
END:VEVENT
END:VCALENDAR
