BEGIN:VCALENDAR
PRODID:-//eluceo/ical//2.0/EN
VERSION:2.0
CALSCALE:GREGORIAN
BEGIN:VEVENT
UID:9e8f0be3f09377d1f3aa68e820e86369
DTSTAMP:20260423T160740Z
SUMMARY:Beit Halochem - Courage in Motion Bike Ride
DESCRIPTION:UJA Federation of Greater Toronto\nJewish Toronto Calendar\nhtt
 ps://jewishtoronto.com/calendar/beit-halochem---courage-in-motion-bike-rid
 e-1460657199\n\nHosted by Beit Halochem\, Disabled Veterans of Israel
DTSTART;TZID=America/Toronto:20171022T090000
DTEND;TZID=America/Toronto:20171026T170000
END:VEVENT
END:VCALENDAR
