BEGIN:VCALENDAR
PRODID:-//eluceo/ical//2.0/EN
VERSION:2.0
CALSCALE:GREGORIAN
BEGIN:VEVENT
UID:79c535b0719a51103a501fee2cae0cef
DTSTAMP:20260422T131913Z
SUMMARY:Behind the Scenes of TJFF with Helen Zukerman and Stuart Hands
DESCRIPTION:UJA Federation of Greater Toronto\nJewish Toronto Calendar\nhtt
 ps://jewishtoronto.com/calendar/behind-the-scenes-of-tjff-with-helen-zuker
 man-and-stuart-hands-1600280247\n\nJoin Helen Zukerman\, artistic director
 \, and Stuart Hands\, program director\, to take a behind-the-scenes visit
  to the Toronto Jewish Film Festival\, learning everything you wanted to k
 now about the festival but never got a chance to ask. Topics covered will 
 include answering the question of what is a Jewish film\, and the challeng
 es of pivoting the festival in the COVID-19 reality. 
DTSTART;TZID=America/Toronto:20201014T130000
DTEND;TZID=America/Toronto:20201014T143000
END:VEVENT
END:VCALENDAR
