BEGIN:VCALENDAR
PRODID:-//eluceo/ical//2.0/EN
VERSION:2.0
CALSCALE:GREGORIAN
BEGIN:VEVENT
UID:d83c2f7e9322498a320c5ad4d731c1ec
DTSTAMP:20260421T114505Z
SUMMARY:Behind the Scenes of the AGO's upcoming Picasso Exhibit
DESCRIPTION:UJA Federation of Greater Toronto\nJewish Toronto Calendar\nhtt
 ps://jewishtoronto.com/calendar/behind-the-scenes-of-the-agos-upcoming-pic
 asso-exhibit-1571769446\n\nPICASSO: Painting the Blue Period with Kenneth 
 Brummel\, Associate Curator\, Modern Art\, AGO\n
DTSTART;TZID=America/Toronto:20191103T110000
DTEND;TZID=America/Toronto:20191103T130000
END:VEVENT
END:VCALENDAR
