BEGIN:VCALENDAR
PRODID:-//eluceo/ical//2.0/EN
VERSION:2.0
CALSCALE:GREGORIAN
BEGIN:VEVENT
UID:518158a5a3356a03a54b1b0d85cbf14b
DTSTAMP:20260425T152613Z
SUMMARY:BEBY - Women's Lives Series - Part III
DESCRIPTION:UJA Federation of Greater Toronto\nJewish Toronto Calendar\nhtt
 ps://jewishtoronto.com/calendar/beby-womens-lives-series--part-iii\n\nCall
  the office to reserve!\n\nAttend all 3 lectures for $54.00 or pay at the 
 door - $20.00 a lecture.\n\nPart III - Pam Shainhouse:  After losing her 
 precious daughter Alli to a 7 year battler with Hodgkin's Lymphona\, Pam t
 urned her grief into action by founding "Alli's Journey" - an organization
  that supports cancer patients throughout their treatments.
DTSTART;TZID=America/Toronto:20141210T193000
DTEND;TZID=America/Toronto:20141210T213000
END:VEVENT
END:VCALENDAR
