BEGIN:VCALENDAR
PRODID:-//eluceo/ical//2.0/EN
VERSION:2.0
CALSCALE:GREGORIAN
BEGIN:VEVENT
UID:0a32e5eb409bb9fb10347e5ac0be6de9
DTSTAMP:20260424T055845Z
SUMMARY:BEBY the Megillah According to Disney
DESCRIPTION:UJA Federation of Greater Toronto\nJewish Toronto Calendar\nhtt
 ps://jewishtoronto.com/calendar/beby-the-megillah-according-to-disney\n\nF
 ees:    $ 5.00 - Person\n\n$ 20.00 - Family
DTSTART;TZID=America/Toronto:20140315T201500
DTEND;TZID=America/Toronto:20140315T220000
END:VEVENT
END:VCALENDAR
