BEGIN:VCALENDAR
PRODID:-//eluceo/ical//2.0/EN
VERSION:2.0
CALSCALE:GREGORIAN
BEGIN:VEVENT
UID:13b7bd8c6254b06f113552a562741897
DTSTAMP:20260422T152033Z
SUMMARY:BEBY Sisterhood - Girls' Night Out
DESCRIPTION:UJA Federation of Greater Toronto\nJewish Toronto Calendar\nhtt
 ps://jewishtoronto.com/calendar/beby-sisterhood-girls-night-out-1\n\nCall 
 the office to reserve!\n\nBEBY Members - $3.00\; Guests - $5.00\n\nJoin us
  for good company and good times!\n\nWomen of all ages are welcome.  Ligh
 t refreshments\, games\, films and music too!\n\nLast Thursday of the mont
 h:  October 30th\; November 27th\; January 29th\; February 26th\; March 2
 6th\; April 30th\; May 28th.\n\n 
DTSTART;TZID=America/Toronto:20141127T200000
DTEND;TZID=America/Toronto:20141127T210000
END:VEVENT
END:VCALENDAR
